BEGIN:VCALENDAR
VERSION:2.0
PRODID:-//Flowers from the Farm - ECPv6.15.18//NONSGML v1.0//EN
CALSCALE:GREGORIAN
METHOD:PUBLISH
X-WR-CALNAME:Flowers from the Farm
X-ORIGINAL-URL:https://www.flowersfromthefarm.co.uk
X-WR-CALDESC:Events for Flowers from the Farm
REFRESH-INTERVAL;VALUE=DURATION:PT1H
X-Robots-Tag:noindex
X-PUBLISHED-TTL:PT1H
BEGIN:VTIMEZONE
TZID:Europe/London
BEGIN:DAYLIGHT
TZOFFSETFROM:+0000
TZOFFSETTO:+0100
TZNAME:BST
DTSTART:20240331T010000
END:DAYLIGHT
BEGIN:STANDARD
TZOFFSETFROM:+0100
TZOFFSETTO:+0000
TZNAME:GMT
DTSTART:20241027T010000
END:STANDARD
BEGIN:DAYLIGHT
TZOFFSETFROM:+0000
TZOFFSETTO:+0100
TZNAME:BST
DTSTART:20250330T010000
END:DAYLIGHT
BEGIN:STANDARD
TZOFFSETFROM:+0100
TZOFFSETTO:+0000
TZNAME:GMT
DTSTART:20251026T010000
END:STANDARD
BEGIN:DAYLIGHT
TZOFFSETFROM:+0000
TZOFFSETTO:+0100
TZNAME:BST
DTSTART:20260329T010000
END:DAYLIGHT
BEGIN:STANDARD
TZOFFSETFROM:+0100
TZOFFSETTO:+0000
TZNAME:GMT
DTSTART:20261025T010000
END:STANDARD
END:VTIMEZONE
BEGIN:VEVENT
DTSTART;TZID=Europe/London:20250510T093000
DTEND;TZID=Europe/London:20250510T163000
DTSTAMP:20260419T170026
CREATED:20250219T091014Z
LAST-MODIFIED:20250219T091014Z
UID:34134-1746869400-1746894600@www.flowersfromthefarm.co.uk
SUMMARY:Seasonal Flowers for Impact Workshop
DESCRIPTION:Elevate your floristry skills with this intensive\, one day ‘impact’ flowers workshop; using lots of wonderful fresh seasonal flowers and foliage from Pulvertoft Flowers. \nYour day will start with a tour of the flower farm which Fiona\, of Pulvertoft Flowers\, will lead. We will then move into the workshop where we will talk about sustainable techniques and mechanics behind creating larger scale impactful arrangements. \nThe it’s time for your to work as a team under our guidance to create a broken floral arch and a large hanging\, overhead installation. \nFinally we will add the finishing styling opportunities\, allowing you some time to take some photos. \nLunch and refreshments provided. \nCost: £295.00 \nHow to Book: Visit our shop and book a place at https://www.bohoflowers.co.uk/shop#/item/seasonal-flowers-for-impact-workshop-_-10th-may-_-9_30am-4_30pm-_-pulvertoft-flower-farm
URL:https://www.flowersfromthefarm.co.uk/event/seasonal-flowers-for-impact-workshop/
LOCATION:Boho Flowers\, The Welwyn Studio\, Wood View Pottersheath Road\, Welwyn\, Hertfordshire\, AL6 9ST\, United Kingdom
ATTACH;FMTTYPE=image/jpeg:https://www.flowersfromthefarm.co.uk/wp-content/uploads/2025/02/Seasonal-Flowers-for-Impact-Workshop-with-Boho-Flowers.jpg
ORGANIZER;CN="Alison Down":MAILTO:info@bohoflowers.co.uk
GEO:51.839735;-0.3037363
X-APPLE-STRUCTURED-LOCATION;VALUE=URI;X-ADDRESS=Boho Flowers The Welwyn Studio Wood View Pottersheath Road Welwyn Hertfordshire AL6 9ST United Kingdom;X-APPLE-RADIUS=500;X-TITLE=The Welwyn Studio\, Wood View Pottersheath Road:geo:-0.3037363,51.839735
END:VEVENT
BEGIN:VEVENT
DTSTART;TZID=Europe/London:20250510T103000
DTEND;TZID=Europe/London:20250510T160000
DTSTAMP:20260419T170026
CREATED:20250312T101211Z
LAST-MODIFIED:20250312T101211Z
UID:34318-1746873000-1746892800@www.flowersfromthefarm.co.uk
SUMMARY:Grow Your Own Cut Flowers Workshop
DESCRIPTION:Join us for a practical and inspirational day learning how to grow your own cut flowers. We will share the why\, how and what of cut flower growing\, and show you some insider tips and tricks. \nWith both theory and a tour of our flowers and facilities\, we will give you a head start in creating your own cutting patch. \nLunch provided\, and the best setting ever! \nCost: £95.00 \nHow to Book: Book online here
URL:https://www.flowersfromthefarm.co.uk/event/grow-your-own-cut-flowers-workshop/
LOCATION:Abbey Farm Flowers\, Church Street\, Abbotsbury\,\, Weymouth\, Dorset\, DT3 4JJ\, United Kingdom
ORGANIZER;CN="Amy Ralph":MAILTO:Hello@abbeyfarmflowers.co.uk
GEO:50.6647184;-2.5998433
X-APPLE-STRUCTURED-LOCATION;VALUE=URI;X-ADDRESS=Abbey Farm Flowers Church Street Abbotsbury Weymouth Dorset DT3 4JJ United Kingdom;X-APPLE-RADIUS=500;X-TITLE=Church Street\, Abbotsbury\,:geo:-2.5998433,50.6647184
END:VEVENT
END:VCALENDAR